BEGIN:VCALENDAR
VERSION:2.0
PRODID:-//Queensland Child Protection Week - ECPv6.15.20//NONSGML v1.0//EN
CALSCALE:GREGORIAN
METHOD:PUBLISH
X-WR-CALNAME:Queensland Child Protection Week
X-ORIGINAL-URL:https://childprotectionweek.org.au
X-WR-CALDESC:Events for Queensland Child Protection Week
REFRESH-INTERVAL;VALUE=DURATION:PT1H
X-Robots-Tag:noindex
X-PUBLISHED-TTL:PT1H
BEGIN:VTIMEZONE
TZID:Australia/Brisbane
BEGIN:STANDARD
TZOFFSETFROM:+1000
TZOFFSETTO:+1000
TZNAME:AEST
DTSTART:20250101T000000
END:STANDARD
END:VTIMEZONE
BEGIN:VEVENT
DTSTART;TZID=Australia/Brisbane:20261002T000000
DTEND;TZID=Australia/Brisbane:20261002T000000
DTSTAMP:20260425T021935
CREATED:20250905T004038Z
LAST-MODIFIED:20260424T113116Z
UID:10000007-1790899200-1790899200@childprotectionweek.org.au
SUMMARY:Child Protection Week Celebration
DESCRIPTION:Join Us to Celebrate Child Protection Week \nWednesday 24th September \n10:00am – 2:00pm \nPine Rivers Park\, 125 Gympie Road\, Strathpine QLD 4500 \nEveryone is welcome to join in this community celebration of keeping kids safe!\nWelcome to Country\, Activities\, Free Feed and Park Play\, Elders tent.
URL:https://childprotectionweek.org.au/event/child-protection-week-celebration/
CATEGORIES:Art display
END:VEVENT
END:VCALENDAR