BEGIN:VCALENDAR
VERSION:2.0
PRODID:-//Queensland Child Protection Week - ECPv6.15.20//NONSGML v1.0//EN
CALSCALE:GREGORIAN
METHOD:PUBLISH
X-WR-CALNAME:Queensland Child Protection Week
X-ORIGINAL-URL:https://childprotectionweek.org.au
X-WR-CALDESC:Events for Queensland Child Protection Week
REFRESH-INTERVAL;VALUE=DURATION:PT1H
X-Robots-Tag:noindex
X-PUBLISHED-TTL:PT1H
BEGIN:VTIMEZONE
TZID:Australia/Brisbane
BEGIN:STANDARD
TZOFFSETFROM:+1000
TZOFFSETTO:+1000
TZNAME:AEST
DTSTART:20250101T000000
END:STANDARD
END:VTIMEZONE
BEGIN:VEVENT
DTSTART;TZID=Australia/Brisbane:20260424T080000
DTEND;TZID=Australia/Brisbane:20260424T170000
DTSTAMP:20260425T035152
CREATED:20260424T112059Z
LAST-MODIFIED:20260424T113148Z
UID:10000017-1777017600-1777050000@childprotectionweek.org.au
SUMMARY:Family Fun day
DESCRIPTION:Sed bibendum sollicitudin orci\, at viverra metus vehicula sed. Aliquam erat volutpat.
URL:https://childprotectionweek.org.au/event/family-fun-day/
CATEGORIES:Family fun day
END:VEVENT
END:VCALENDAR