BEGIN:VCALENDAR
VERSION:2.0
PRODID:-//Queensland Child Protection Week - ECPv6.15.20//NONSGML v1.0//EN
CALSCALE:GREGORIAN
METHOD:PUBLISH
X-ORIGINAL-URL:https://childprotectionweek.org.au
X-WR-CALDESC:Events for Queensland Child Protection Week
REFRESH-INTERVAL;VALUE=DURATION:PT1H
X-Robots-Tag:noindex
X-PUBLISHED-TTL:PT1H
BEGIN:VTIMEZONE
TZID:Australia/Brisbane
BEGIN:STANDARD
TZOFFSETFROM:+1000
TZOFFSETTO:+1000
TZNAME:AEST
DTSTART:20250101T000000
END:STANDARD
END:VTIMEZONE
BEGIN:VEVENT
DTSTART;TZID=Australia/Brisbane:20260906T080000
DTEND;TZID=Australia/Brisbane:20260906T170000
DTSTAMP:20260425T005204
CREATED:20260424T110317Z
LAST-MODIFIED:20260424T113140Z
UID:10000015-1788681600-1788714000@childprotectionweek.org.au
SUMMARY:Queensland Child Protection Week
DESCRIPTION:In 2026\, Queensland Child Protection Week (QCPW) celebrates its 40th Anniversary. Running from 6–12 September 2026\, the campaign marks four decades of advocacy.
URL:https://childprotectionweek.org.au/event/queensland-child-protection-week/
LOCATION:Over 200 events will be held across Queensland
CATEGORIES:Kindy
ORGANIZER;CN="Caitlin King":MAILTO:caitlin@childprotectionweek.org.au
END:VEVENT
END:VCALENDAR